BEGIN:VCALENDAR
VERSION:2.0
PRODID:-//Ysgol Bro Taf - ECPv6.15.17.1//NONSGML v1.0//EN
CALSCALE:GREGORIAN
METHOD:PUBLISH
X-WR-CALNAME:Ysgol Bro Taf
X-ORIGINAL-URL:https://www.brotaf.cymru
X-WR-CALDESC:Events for Ysgol Bro Taf
REFRESH-INTERVAL;VALUE=DURATION:PT1H
X-Robots-Tag:noindex
X-PUBLISHED-TTL:PT1H
BEGIN:VTIMEZONE
TZID:Europe/London
BEGIN:DAYLIGHT
TZOFFSETFROM:+0000
TZOFFSETTO:+0100
TZNAME:BST
DTSTART:20250330T010000
END:DAYLIGHT
BEGIN:STANDARD
TZOFFSETFROM:+0100
TZOFFSETTO:+0000
TZNAME:GMT
DTSTART:20251026T010000
END:STANDARD
BEGIN:DAYLIGHT
TZOFFSETFROM:+0000
TZOFFSETTO:+0100
TZNAME:BST
DTSTART:20260329T010000
END:DAYLIGHT
BEGIN:STANDARD
TZOFFSETFROM:+0100
TZOFFSETTO:+0000
TZNAME:GMT
DTSTART:20261025T010000
END:STANDARD
BEGIN:DAYLIGHT
TZOFFSETFROM:+0000
TZOFFSETTO:+0100
TZNAME:BST
DTSTART:20270328T010000
END:DAYLIGHT
BEGIN:STANDARD
TZOFFSETFROM:+0100
TZOFFSETTO:+0000
TZNAME:GMT
DTSTART:20271031T010000
END:STANDARD
END:VTIMEZONE
BEGIN:VEVENT
DTSTART;VALUE=DATE:20260427
DTEND;VALUE=DATE:20260430
DTSTAMP:20260421T152754
CREATED:20260413T203159Z
LAST-MODIFIED:20260413T203446Z
UID:6480-1777248000-1777507199@www.brotaf.cymru
SUMMARY:Yr 6 Manor Adventure Residential
DESCRIPTION:
URL:https://www.brotaf.cymru/date/yr-6-manor-adventure-residential/
CATEGORIES:Lower School
ATTACH;FMTTYPE=image/png:https://www.brotaf.cymru/wp-content/uploads/2026/04/manoradventure-e1776112312748.png
END:VEVENT
BEGIN:VEVENT
DTSTART;VALUE=DATE:20260427
DTEND;VALUE=DATE:20260428
DTSTAMP:20260421T152754
CREATED:20260413T204149Z
LAST-MODIFIED:20260413T204149Z
UID:6486-1777248000-1777334399@www.brotaf.cymru
SUMMARY:Yr 8 - 9 HPV Vaccinations
DESCRIPTION:
URL:https://www.brotaf.cymru/date/yr-8-9-hpv-vaccinations/
CATEGORIES:Lower School
ATTACH;FMTTYPE=image/png:https://www.brotaf.cymru/wp-content/uploads/2026/04/hpvvaccinations-e1776112905499.png
END:VEVENT
BEGIN:VEVENT
DTSTART;VALUE=DATE:20260429
DTEND;VALUE=DATE:20260430
DTSTAMP:20260421T152754
CREATED:20260413T203932Z
LAST-MODIFIED:20260413T204733Z
UID:6483-1777420800-1777507199@www.brotaf.cymru
SUMMARY:Yr 3 - 8 UK Maths Challenge
DESCRIPTION:
URL:https://www.brotaf.cymru/date/yr-3-8-uk-maths-challenge/
CATEGORIES:Lower School,Middle School,Upper School
ATTACH;FMTTYPE=image/png:https://www.brotaf.cymru/wp-content/uploads/2026/04/ukmt-e1776112737968.png
END:VEVENT
BEGIN:VEVENT
DTSTART;VALUE=DATE:20260504
DTEND;VALUE=DATE:20260505
DTSTAMP:20260421T152754
CREATED:20260413T204712Z
LAST-MODIFIED:20260413T204712Z
UID:6489-1777852800-1777939199@www.brotaf.cymru
SUMMARY:May Bank Holiday
DESCRIPTION:
URL:https://www.brotaf.cymru/date/may-bank-holiday/
CATEGORIES:Lower School,Middle School,Upper School
ATTACH;FMTTYPE=image/png:https://www.brotaf.cymru/wp-content/uploads/2026/04/maybankholiday-e1776113202764.png
END:VEVENT
BEGIN:VEVENT
DTSTART;VALUE=DATE:20260523
DTEND;VALUE=DATE:20260601
DTSTAMP:20260421T152754
CREATED:20260413T210150Z
LAST-MODIFIED:20260413T210150Z
UID:6498-1779494400-1780271999@www.brotaf.cymru
SUMMARY:Whitsun Holidays
DESCRIPTION:
URL:https://www.brotaf.cymru/date/whitsun-holidays/
CATEGORIES:Lower School,Middle School,Upper School
ATTACH;FMTTYPE=image/png:https://www.brotaf.cymru/wp-content/uploads/2026/04/whitsunbreak-e1776114102225.png
END:VEVENT
BEGIN:VEVENT
DTSTART;TZID=Europe/London:20260610T090000
DTEND;TZID=Europe/London:20260610T120000
DTSTAMP:20260421T152754
CREATED:20260413T210615Z
LAST-MODIFIED:20260413T210615Z
UID:6501-1781082000-1781092800@www.brotaf.cymru
SUMMARY:Lower School Sports Day (Class 1-3)
DESCRIPTION:
URL:https://www.brotaf.cymru/date/lower-school-sports-day-class-1-3/
CATEGORIES:Lower School
ATTACH;FMTTYPE=image/png:https://www.brotaf.cymru/wp-content/uploads/2026/04/lowerschoolsportsday-e1776114365707.png
END:VEVENT
BEGIN:VEVENT
DTSTART;TZID=Europe/London:20260611T090000
DTEND;TZID=Europe/London:20260611T120000
DTSTAMP:20260421T152754
CREATED:20260413T210801Z
LAST-MODIFIED:20260413T210801Z
UID:6504-1781168400-1781179200@www.brotaf.cymru
SUMMARY:Lower School Sports Day (Class 4-6)
DESCRIPTION:
URL:https://www.brotaf.cymru/date/lower-school-sports-day-class-4-6/
CATEGORIES:Lower School
ATTACH;FMTTYPE=image/png:https://www.brotaf.cymru/wp-content/uploads/2026/04/learnerreviewevening2-e1776114475981.png
END:VEVENT
BEGIN:VEVENT
DTSTART;VALUE=DATE:20260622
DTEND;VALUE=DATE:20260624
DTSTAMP:20260421T152754
CREATED:20260413T211227Z
LAST-MODIFIED:20260413T211451Z
UID:6509-1782086400-1782259199@www.brotaf.cymru
SUMMARY:Yr 5 Transition Days
DESCRIPTION:
URL:https://www.brotaf.cymru/date/yr-5-transition-days/
CATEGORIES:Lower School
ATTACH;FMTTYPE=image/png:https://www.brotaf.cymru/wp-content/uploads/2026/04/yr5transitions-e1776114741720.png
END:VEVENT
BEGIN:VEVENT
DTSTART;TZID=Europe/London:20260623T183000
DTEND;TZID=Europe/London:20260623T230000
DTSTAMP:20260421T152754
CREATED:20260413T211643Z
LAST-MODIFIED:20260413T211643Z
UID:6512-1782239400-1782255600@www.brotaf.cymru
SUMMARY:Yr 11 Prom
DESCRIPTION:
URL:https://www.brotaf.cymru/date/yr-11-prom/
CATEGORIES:Lower School
ATTACH;FMTTYPE=image/png:https://www.brotaf.cymru/wp-content/uploads/2026/04/yr11prom-e1776114996377.png
END:VEVENT
END:VCALENDAR